BEGIN:VCALENDAR
VERSION:2.0
PRODID:Gezeitenkonzerte
CALSCALE:GREGORIAN
BEGIN:VEVENT
LOCATION:Remels – St. Martinskirche\, Ostertorstraße 61\, 26670 Uplengen-Remels
GEO:53.3057575;7.751701
SUMMARY:Nils Mönkemeyer „Bratschissimo“\, Nils Mönkemeyer und seine Bratschenklasse der Hochschule für Musik Hanns Eisler Berlin | Gezeitenkonzerte
DESCRIPTION:Es ist eine der sympathischsten Traditionen\, die sich in den letzten Jahren bei den Gezeitenkonzerten etabliert hat: Wenn ein renommierter Musikprofessor nicht allein\, sondern im Kreise seiner begabtesten Studierenden anreist\, verwandelt sich das Podium in eine Werkstatt der Exzellenz. Nach den großen Erfolgen von „Cellissimo“\, „Klarinettissimo“ und „Flautissimo“ geht dieses besondere Gipfelstürmer-Format nun in die vierte Runde. Unter dem klangvollen Titel „Bratschissimo“ rückt diesmal ein Instrument ins Rampenlicht\, das zu Unrecht oft im Schatten der Violine steht\, aber über den vielleicht wärmsten und menschlichsten Klang aller Streichinstrumente verfügt: die Viola. Für diese Ausgabe konnte kein Geringerer als Nils Mönkemeyer gewonnen werden. Er war schon mehrfach bei den Gezeitenkonzerten zu erleben und gilt als einer der weltweit führenden Bratschisten\, der seinem Instrument mit charismatischer Bühnenpräsenz und innovativen Programmen zu neuer Popularität verholfen hat. Doch Mönkemeyer ist nicht nur ein gefeierter Solist\, sondern auch ein leidenschaftlicher Pädagoge. Als Professor lehrt er aktuell an der Hochschule für Musik Hanns Eisler in Berlin und formt dort die nächste Generation der Spitzenmusiker – und das so erfolgreich\, dass er dafür als „Hochschullehrer des Jahres 2025“ ausgezeichnet wurde. Das diesjährige Festivalmotto „Begegnungen!“ wird auch an diesem Abend auf schönste Weise lebendig: Es ist die Begegnung von...
DTSTART:20260523T170000Z
DTEND:20260523T193000Z
URL;VALUE=URI:https://gezeitenkonzerte.ostfriesischelandschaft.de/veranstaltung/nils-moenkemeyer-bratschissimo/
DTSTAMP:20260420T085102Z
UID:69e5e8f6431c4
END:VEVENT
END:VCALENDAR