BEGIN:VCALENDAR
VERSION:2.0
PRODID:Gezeitenkonzerte
CALSCALE:GREGORIAN
BEGIN:VEVENT
LOCATION:Münkeboe – Kirche Zum guten Hirten\, Upender Str. 63\, 26624 Münkeboe
GEO:53.51521;7.370360000000005
SUMMARY:Michael Barenboim & Gipfelstürmer der Ba&shy\;renboim-Said Akademie\, Kammermusik | Gezeitenkonzerte
DESCRIPTION:Die Barenboim-Said-Akademie in Berlin steht für die Überzeugung\, dass Feindschaft überwunden werden kann\, wenn man dem Hass den Nährboden entzieht. Hier leben\, lernen und musizieren junge Talente aus Israel\, Palästina\, Ägypten\, dem Libanon und der Türkei gemeinsam und die politische Spannung weicht einer perfekten künstlerischen Harmonie: Ihr Zusammenspiel ist ein kraftvolles Plädoyer für den Frieden und die verbindende Kraft der Musik – eine Botschaft\, die das Publikum bereits beim Gezeitenkonzert 2024 in Reepsholt tief bewegte. Hervorgegangen ist die Akademie im Jahr 2015 aus der Initiative des Literaturkritikers Edward Said und des Dirigenten Daniel Barenboim. Sie bauten damit auf den Idealen des West-Eastern Divan Orchestra auf\, das die Utopie eines friedlichen Nahen Ostens bereits seit vielen Jahren zumindest auf musikalischer Ebene verwirklicht. Michael Barenboim\, der als Professor und Dekan die Geschicke der Akademie mit lenkt\, ist in diesem Konzert nicht nur als Dozent\, sondern als Violinist im Ensemble mit einigen seiner besten Studierenden zu erleben. Das Programm dieses Konzerts ist denkbar bunt: Neben Tōru Takemitsu und zwei nicht sehr häufig gespielten Werken von Mozart und Schubert steht mit Schumanns Klavierquintett Es-Dur op. 44 ein echter Renner auf dem Programm\, laut Clara Schumann ein Werk „voller Kraft und Frische“. Tatsächlich ist es...
DTSTART:20260603T170000Z
DTEND:20260603T193000Z
URL;VALUE=URI:https://gezeitenkonzerte.ostfriesischelandschaft.de/veranstaltung/michael-barenboim-renboim-said-akademie/
DTSTAMP:20260420T115532Z
UID:69e61434d9f78
END:VEVENT
END:VCALENDAR