BEGIN:VCALENDAR
VERSION:2.0
PRODID:Gezeitenkonzerte
CALSCALE:GREGORIAN
BEGIN:VEVENT
LOCATION:Bunderhee – Steinhaus (Open Air)\, Steinhausstraße 64\, 26831 Bunde-Bunderhee
GEO:53.1992906;7.2830832
SUMMARY:Maya Fadeeva & Band\, Eine der kraftvollsten deutschen Jazz- und Soul-Stimmen mit ihrer hochenergetischen Liveband | Gezeitenkonzerte
DESCRIPTION:Mit großer musikalischer Strahlkraft feiert Sängerin Maya Fadeeva mit ihrer Band ihre Premiere bei den Gezeitenkonzerten – und das in einem ebenso stimmungsvollen wie besonderen Rahmen: einem sommerlichen Open-Air-Konzert am Steinhaus Bunderhee. Eingebettet in die historische Kulisse und die Weite des Rheiderlands entfaltet sich ein Abend\, der Leichtigkeit\, Tiefe und groovegetriebene Energie verbindet. Maya Fadeevas Stimme gehört sicher zu den kraftvollsten und groovigsten in der deutschen Jazz- und Soul-Szene. Ihr dunkles\, temperamentvolles Timbre erinnert an Amy Winehouse\, doch Maya Fadeeva steht für einen ganz eigenen\, unverwechselbaren Sound zwischen Vintage und Moderne. Als Sängerin\, Songwriterin und Produzentin folgt sie keinem Trend\, sondern ihrem eigenen musikalischen Kompass. Ihre Songs vereinen eingängige Melodien mit Elementen aus Jazz\, Pop\, Soul\, Funk und sonnigem Reggae – zeitlos\, elegant\, voller Ausdruckskraft und Energie. Aufgewachsen in kulturell vielfältigen Städten wie New York\, geprägt von deren musikalischer Offenheit\, fand sie früh ihre eigene Stimme. Mit elf Jahren zog sie nach Deutschland\, später studierte sie Jazz in den Niederlanden – Stationen\, die ihren vielseitigen Stil nachhaltig formten. Internationale Anerkennung ließ nicht lange auf sich warten: Ihre Alben wurden von der Fachpresse als „Diamant“ und als eines der „größten Highlights des Jahres“ gefeiert und sind weltweit in den Radios präsent....
DTSTART:20260528T170000Z
DTEND:20260528T193000Z
URL;VALUE=URI:https://gezeitenkonzerte.ostfriesischelandschaft.de/veranstaltung/maya-fadeeva-band/
DTSTAMP:20260424T180631Z
UID:69ebb127beed9
END:VEVENT
END:VCALENDAR