BEGIN:VCALENDAR
VERSION:2.0
PRODID:Gezeitenkonzerte
CALSCALE:GREGORIAN
BEGIN:VEVENT
LOCATION:Papenburg – Stadthalle im Forum Alte Werft\, Ölmühlenweg 9\, 26871 Papenburg
GEO:53.0872943;7.3869772
SUMMARY:Lucy Landymore & Deutsches Kammerorchester Berlin\, „Lucy Landymore spielt Hans Zimmer“ | Gezeitenkonzerte
DESCRIPTION:Die britische Multi-Percussionistin Lucy Landymore ist eine vielseitige Musikerin und Komponistin\, die weltweit in renommierten Konzertsälen und auf Festivals aufgetreten ist und mit namhaften Künstlern wie Stewart Copeland und Andrea Bocelli zusammengearbeitet hat. Lucy Landymore ist als Percussionistin außerdem die erste Wahl von Hans Zimmer\, einer Legende der zeitgenössischen Filmmusik\, in dessen Tour-Ensemble sie die größten Konzertsäle der Welt bereist. Seine Werke wird sie nun auch in Papenburg spielen. Die Idee zu diesem besonderen Konzertprogramm entstand 2022\, als Hans Zimmer Lucy Landymore einlud\, zusammen mit Igudesman & Joo an seinem neuesten Dokumentarfilm „Hollywood Rebel“ mitzuwirken und für den sie in den BBC Studios in Cannes spezielle Arrangements seiner Filmmusik aufführte. Lassen Sie sich entführen in die Welt ikonischer Filmmusiken\, die Lucy Landymore selbst neu arrangiert hat und die sie mit dem Deutschen Kammerorchester Berlin unter der Leitung von Gabriel Adorján präsentiert. Zu hören sind beliebte Soundtracks wie „Interstellar“\, „The Pirates of the Caribbean“\, „Da Vinci Code“\, „Gladiator“ oder „Inception“. Lucy Landymore gewährt zusammen mit dem DKO Berlin einen einzigartigen Einblick in die Welt von Hans Zimmer aus der Perspektive einer Schlagzeugerin. Ihre Eigenkompositionen bilden dazu einen erfrischenden Kontrast. Ergänzt wird das Programm durch Werke von Johann Sebastian Bach\, Gustav Mahler...
DTSTART:20260625T170000Z
DTEND:20260625T193000Z
URL;VALUE=URI:https://gezeitenkonzerte.ostfriesischelandschaft.de/veranstaltung/lucy-landymore-deutsches-kammerorchester-berlin/
DTSTAMP:20260425T015340Z
UID:69ec1ea43f649
END:VEVENT
END:VCALENDAR