BEGIN:VCALENDAR
VERSION:2.0
PRODID:Gezeitenkonzerte
CALSCALE:GREGORIAN
BEGIN:VEVENT
LOCATION:Aurich – Ostfriesische Landschaft\, Georgswall 1 - 5\, 26603 Aurich
GEO:53.46748975319428;7.480555712897512
SUMMARY:Lange Nacht der Gipfelstürmer II\, Wandelkonzert mit herausragenden Gipfelstürmern und einem facettenreichen Programm | Gezeitenkonzerte
DESCRIPTION:Wenn die „Langen Nächte der Gipfelstürmer“ rufen\, ist Ausnahmestimmung garantiert. Auch an diesem zweiten Abend verwandeln ein Dutzend junge Nachwuchs-Stars den Ständesaal und das Landschaftsforum in einen pulsierenden Klangkosmos. Das Programm? Eine Wundertüte: Mal intim und zerbrechlich\, mal atemberaubend virtuos. Freuen Sie sich auf Kammermusik in all ihren Facetten – ob solo oder im Ensemble\, ob alte Meister oder neue Töne. Hier trifft höchste Virtuosität auf lockere Moderation. In den langen Konzertpausen wird der malerische Innenhof der Ostfriesischen Landschaft zum entspannten Open-Air-Wohnzimmer. Lassen Sie das Gehörte bei einer Tasse Thiele Tee nachklingen oder genießen Sie die kulinarischen Highlights des Tammenshofs. Gut gestärkt geht es dann ins legendäre Finale: Im dritten Teil fällt jede starre Programmplanung. Die Musiker entscheiden spontan\, was gespielt wird\, und bringen das Forum gemeinsam zum Kochen. Duo Firiël Werners & Ilse Kok (Querflöte & Akkordeon) Sophie Rauch (Violine) Ayaka Taganuchi (Viola) Marc Strokov (Violoncello) Francesco Maffei (Posaune) Sebastian Rauch (Klavier) Lezi Zhan (Klavier) Nikita Heimann (Schauspiel) Charlotte Vogel (Schauspiel) u. a. Ulf Brenken (Moderation) Matthias Kirschnereit (Moderation)
DTSTART:20260704T160000Z
DTEND:20260704T213000Z
URL;VALUE=URI:https://gezeitenkonzerte.ostfriesischelandschaft.de/veranstaltung/lange-nacht-der-gipfelstuermer-ii-7/
DTSTAMP:20260420T115523Z
UID:69e6142b2ff23
END:VEVENT
END:VCALENDAR