BEGIN:VCALENDAR
VERSION:2.0
PRODID:Gezeitenkonzerte
CALSCALE:GREGORIAN
BEGIN:VEVENT
LOCATION:Aurich – Ostfriesische Landschaft\, Georgswall 1 - 5\, 26603 Aurich
GEO:53.46748975319428;7.480555712897512
SUMMARY:Lange Nacht der Gipfelstürmer I\, Wandelkonzert mit herausragenden Gipfelstürmern und einem facettenreichen Programm | Gezeitenkonzerte
DESCRIPTION:Sie sind ein absolutes Herzstück der Gezeitenkonzerte und in der Festivallandschaft ohne Konkurrenz: Unsere „Langen Nächte der Gipfelstürmer“ sind längst Legende. Wenn ein Dutzend junge Ausnahmetalente die Säle der Ostfriesischen Landschaft in einem Wandelkonzert in Klangräume verwandelt\, trifft hochkarätige Kammermusik auf pure Festival-Vibes. Erleben Sie in unterschiedlichsten kammermusikalischen Besetzungen Musik\, die berührt: von leisen\, intimen Tönen bis hin zu virtuosen Feuerwerken\, quer durch die Epochen und Stile – und immer charmant moderiert. Das Rezept für diese magischen Abende ist einfach: Drinnen servieren die Gipfelstürmer in wechselnden Formationen ein kurzweiliges\, funkensprühendes Programm. Draußen\, unter der mächtigen Eiche im Landschaftsgarten\, sorgt das Team des Tammenshofs in den langen Pausen für entspannte Sommernachtsstimmung und kulinarische Highlights. Der krönende Abschluss? Die legendäre abschließende Jam-Session\, bei der alle Dämme brechen. Freuen Sie sich auf die Begegnung mit frischen Gesichtern\, musikalischen Überraschungen und einer Atmosphäre\, die man einfach erlebt haben muss. Duo Firiël Werners & Ilse Kok (Querflöte & Akkordeon) Sophie Rauch (Violine) Ayaka Taganuchi (Viola) Marc Strokov (Violoncello) Francesco Maffei (Posaune) Sebastian Rauch (Klavier) Lezi Zhan (Klavier) Nikita Heimann (Schauspiel) Charlotte Vogel (Schauspiel) u. a. Ulf Brenken (Moderation) Matthias Kirschnereit (Moderation)
DTSTART:20260703T160000Z
DTEND:20260703T213000Z
URL;VALUE=URI:https://gezeitenkonzerte.ostfriesischelandschaft.de/veranstaltung/lange-nacht-der-gipfelstuermer-i-7/
DTSTAMP:20260420T115523Z
UID:69e6142b169b5
END:VEVENT
END:VCALENDAR