BEGIN:VCALENDAR
VERSION:2.0
PRODID:Gezeitenkonzerte
CALSCALE:GREGORIAN
BEGIN:VEVENT
LOCATION:Papenburg – Stadthalle im Forum Alte Werft\, Ölmühlenweg 9\, 26871 Papenburg
GEO:53.0872943;7.3869772
SUMMARY:Christian Ehring\, Exklusiv für die Gezeitenkonzerte präsentiert der Kabarettist erneut seine musikalische Seite – am Klavier mit Chansons von heiterem Tiefgang | Gezeitenkonzerte
DESCRIPTION:Er ist Autor\, Kabarettist\, Comedian und Musiker – und einer der schärfsten politischen Beobachter des Landes: Christian Ehring kehrt 2026 zu den Gezeitenkonzerten zurück. Nach seinem gefeierten Auftritt 2023 präsentiert er in Papenburg nun erneut ein eigens für das Festival entwickeltes\, exklusives Musikprogramm. Ein Abend\, der kluge Satire\, pointierte Analyse und musikalischen Witz auf besondere Weise verbindet. Viele kennen Christian Ehring als souveränen Moderator der NDR-Satiresendung „extra3“ oder als kongenialen Sidekick von Oliver Welke in der „heute-show“. Woche für Woche seziert er mit messerscharfer Präzision das politische Geschehen. Doch die Bühne ist sein eigentliches Zuhause: Seit über zwei Jahrzehnten tourt Ehring mit gefeierten Soloprogrammen durch Deutschland – darunter „Zypressen bei Sonnenaufgang“\, „Keine weiteren Fragen“\, „Antikörper“\, „Stand jetzt“ oder aktuell „Versöhnung“. Seine Programme sind hochaktuell\, persönlich\, schwarzhumorig und politisch bis in die letzte Pointe. Was Ehring live besonders auszeichnet\, ist seine Vielseitigkeit. Er überzeugt nicht nur mit sprachlicher Brillanz und treffsicherem Timing\, sondern auch als Musiker. Immer wieder nimmt er am Klavier Platz und kommentiert das Zeitgeschehen in eigenen satirischen Liedern – bissig\, klug und erstaunlich eingängig. Genau diese musikalische Seite rückt bei den Gezeitenkonzerten erneut in den Mittelpunkt. Das eigens für das Festival konzipierte Programm verspricht einen Abend voller Wortwitz\,...
DTSTART:20260604T170000Z
DTEND:20260604T193000Z
URL;VALUE=URI:https://gezeitenkonzerte.ostfriesischelandschaft.de/veranstaltung/christian-ehring-2/
DTSTAMP:20260425T015635Z
UID:69ec1f536c6b7
END:VEVENT
END:VCALENDAR