BEGIN:VCALENDAR
VERSION:2.0
PRODID:Gezeitenkonzerte
CALSCALE:GREGORIAN
BEGIN:VEVENT
LOCATION:Aurich – Stadthalle\, Fischteichweg 7 - 13\, 26603 Aurich
GEO:53.46698;7.48306
SUMMARY:Bidla Buh\, Kult-Comedy im Frack: Die ultimative Abschiedsshow der drei virtuosen Alleskönner | Gezeitenkonzerte
DESCRIPTION:Sie wirken\, als seien sie auf dem Weg zu einem festlichen Empfang: Frack\, Manschettenknöpfe\, Einstecktuch\, tadellos frisiert. Doch der erste Eindruck trügt – und das mit voller Absicht. Denn Bidla Buh\, die drei Herren im Maßanzug der Musik-Comedy\, haben es faustdick hinter den Ohren. Doch nach fast drei Jahrzehnten Bandgeschichte haben sie sich entschlossen\, ihre Fracks an den Nagel zu hängen. Das tun die drei adretten Herren allerdings nicht\, ohne sich standesgemäß von ihrem Publikum zu verabschieden\, und gehen auf eine letzte große Reise. Bei ihrer Abschiedstournee machen sie nach umjubelten Auftritten bei den Gezeitenkonzerten 2018\, 2019 und 2024 nun ein allerletztes Mal Station in Ostfriesland. In der Stadthalle Aurich steigt diese große Abschiedsparty mit einem Ensemble\, das hier längst Kultstatus genießt. Bidla Buh bieten noch einmal Musik-Comedy der schrägsten und zugleich virtuosesten Art. In atemberaubendem Tempo jagen die drei Hamburger durch Musikgeschichte und Stilwelten\, lassen rund 30 Instrumente erklingen – darunter zahlreiche selbstgebaute – und überraschen immer wieder mit Klangquellen\, die man eher im Gartenhaus als auf der Bühne vermuten würde. Gartenschläuche und Bierflaschen werden zu Musikinstrumenten\, Almjodler treffen auf spanische Kastagnetten und Flamenco\, und Stars der deutschen wie internationalen Musikszene bekommen liebevoll-bissige Parodien verpasst. Seit über 27 Jahren...
DTSTART:20260529T170000Z
DTEND:20260529T193000Z
URL;VALUE=URI:https://gezeitenkonzerte.ostfriesischelandschaft.de/veranstaltung/bidla-buh-2/
DTSTAMP:20260426T001849Z
UID:69ed59e9003ee
END:VEVENT
END:VCALENDAR