BEGIN:VCALENDAR
VERSION:2.0
PRODID:Gezeitenkonzerte
CALSCALE:GREGORIAN
BEGIN:VEVENT
LOCATION:Aurich – Stadthalle\, Fischteichweg 7 - 13\, 26603 Aurich
GEO:53.46698;7.48306
SUMMARY:Abschlusskonzert Musikvermittlungsprojekt\, „Flutlichter - Gipfelstürmer@School“ | Gezeitenkonzerte
DESCRIPTION:Bühne frei für eine außergewöhnliche Premiere: Das Abschlusskonzert des neuartigen Musikvermittlungsprojekts „Flutlichter – Gipfelstürmer@ School“. Diese Veranstaltung ist weit mehr als ein klassisches Konzert – sie ist das funkensprühende Finale einer monatelangen kreativen Reise\, welche die Gezeitenkonzerte gemeinsam mit den renommierten Partnern TONALi und Rhapsody in School in diesem Jahr erstmalig ins Leben gerufen haben. Seit Februar arbeiten rund 100 Schülerinnen und Schüler der 5. und 6. Klassen aus ganz Ostfriesland – vom Gymnasium Ulricianum Aurich und dem Max-Windmüller-Gymnasium Emden bis zum Ubbo-Emmius-Gymnasium Leer und der Alexander-von-Humboldt-Schule Wittmund – intensiv auf diesen Moment hin. In mehreren Schulbesuchen haben sie nicht nur Musik gehört\, sondern sie aktiv mitgestaltet. Unter dem Leitbild „Flutlichter“ wurde dabei Schritt für Schritt ein neues „Licht“ eingeschaltet: vom ersten Wahrnehmen und Reagieren über das Gestalten eigener Szenen bis hin zur Verantwortung auf der großen Bühne. Das Ergebnis ist ein Konzertformat\, das Genregrenzen sprengt und die kreative Energie der Schülerinnen und Schüler mit der Exzellenz international gefeierter Profimusiker verschmilzt. Das künstlerische Team liest sich wie ein „Who is Who“ der jungen Musikszene: Der Pianist Benyamin Nuss\, weltweit bekannt für seine Interpretationen von Videospielmusik (u. a. „Final Fantasy“)\, sorgt für die musikalische Leitung. Er wird unterstützt von der Jazz-Sängerin...
DTSTART:20260619T160000Z
DTEND:20260619T173000Z
URL;VALUE=URI:https://gezeitenkonzerte.ostfriesischelandschaft.de/veranstaltung/abschlusskonzert-musikvermittlungsprojekt/
DTSTAMP:20260420T085304Z
UID:69e5e970d7ad2
END:VEVENT
END:VCALENDAR